BEGIN:VCALENDAR
VERSION:2.0
PRODID:-//ADA Les Pléiades - ECPv6.15.17//NONSGML v1.0//EN
CALSCALE:GREGORIAN
METHOD:PUBLISH
X-ORIGINAL-URL:https://astro-lespleiades26.fr
X-WR-CALDESC:Évènements pour ADA Les Pléiades
REFRESH-INTERVAL;VALUE=DURATION:PT1H
X-Robots-Tag:noindex
X-PUBLISHED-TTL:PT1H
BEGIN:VTIMEZONE
TZID:Europe/Paris
BEGIN:DAYLIGHT
TZOFFSETFROM:+0100
TZOFFSETTO:+0200
TZNAME:CEST
DTSTART:20240331T010000
END:DAYLIGHT
BEGIN:STANDARD
TZOFFSETFROM:+0200
TZOFFSETTO:+0100
TZNAME:CET
DTSTART:20241027T010000
END:STANDARD
BEGIN:DAYLIGHT
TZOFFSETFROM:+0100
TZOFFSETTO:+0200
TZNAME:CEST
DTSTART:20250330T010000
END:DAYLIGHT
BEGIN:STANDARD
TZOFFSETFROM:+0200
TZOFFSETTO:+0100
TZNAME:CET
DTSTART:20251026T010000
END:STANDARD
BEGIN:DAYLIGHT
TZOFFSETFROM:+0100
TZOFFSETTO:+0200
TZNAME:CEST
DTSTART:20260329T010000
END:DAYLIGHT
BEGIN:STANDARD
TZOFFSETFROM:+0200
TZOFFSETTO:+0100
TZNAME:CET
DTSTART:20261025T010000
END:STANDARD
END:VTIMEZONE
BEGIN:VEVENT
DTSTART;TZID=Europe/Paris:20250705T150000
DTEND;TZID=Europe/Paris:20250705T233000
DTSTAMP:20260425T215017
CREATED:20250509T161054Z
LAST-MODIFIED:20250509T161054Z
UID:1119-1751727600-1751758200@astro-lespleiades26.fr
SUMMARY:veillée aux étoiles
DESCRIPTION:
URL:https://astro-lespleiades26.fr/index.php/event/veillee-aux-etoiles/
LOCATION:La Vacherie\, Le Chaffal\, Sélectionner un État :\, 26190\, France
CATEGORIES:Observations Publiques
END:VEVENT
END:VCALENDAR