BEGIN:VCALENDAR
VERSION:2.0
PRODID:-//ADA Les Pléiades - ECPv6.15.17//NONSGML v1.0//EN
CALSCALE:GREGORIAN
METHOD:PUBLISH
X-ORIGINAL-URL:https://astro-lespleiades26.fr
X-WR-CALDESC:Évènements pour ADA Les Pléiades
REFRESH-INTERVAL;VALUE=DURATION:PT1H
X-Robots-Tag:noindex
X-PUBLISHED-TTL:PT1H
BEGIN:VTIMEZONE
TZID:Europe/Paris
BEGIN:DAYLIGHT
TZOFFSETFROM:+0100
TZOFFSETTO:+0200
TZNAME:CEST
DTSTART:20240331T010000
END:DAYLIGHT
BEGIN:STANDARD
TZOFFSETFROM:+0200
TZOFFSETTO:+0100
TZNAME:CET
DTSTART:20241027T010000
END:STANDARD
BEGIN:DAYLIGHT
TZOFFSETFROM:+0100
TZOFFSETTO:+0200
TZNAME:CEST
DTSTART:20250330T010000
END:DAYLIGHT
BEGIN:STANDARD
TZOFFSETFROM:+0200
TZOFFSETTO:+0100
TZNAME:CET
DTSTART:20251026T010000
END:STANDARD
BEGIN:DAYLIGHT
TZOFFSETFROM:+0100
TZOFFSETTO:+0200
TZNAME:CEST
DTSTART:20260329T010000
END:DAYLIGHT
BEGIN:STANDARD
TZOFFSETFROM:+0200
TZOFFSETTO:+0100
TZNAME:CET
DTSTART:20261025T010000
END:STANDARD
END:VTIMEZONE
BEGIN:VEVENT
DTSTART;TZID=Europe/Paris:20250930T200000
DTEND;TZID=Europe/Paris:20250930T220000
DTSTAMP:20260425T183239
CREATED:20250509T161508Z
LAST-MODIFIED:20250509T161649Z
UID:1125-1759262400-1759269600@astro-lespleiades26.fr
SUMMARY:hommage aux fondateurs de l 'association
DESCRIPTION:
URL:https://astro-lespleiades26.fr/index.php/event/hommage-aux-fondateurs-de-l-association/
LOCATION:ADA les Pleiades\, 645 Chemin des Perrots\, Beaumont lès Valence\, 26760
CATEGORIES:privée ADA
END:VEVENT
END:VCALENDAR